BEGIN:VCALENDAR
VERSION:2.0
PRODID:-//Hardrijders Club Amsterdam - ECPv6.15.20//NONSGML v1.0//EN
CALSCALE:GREGORIAN
METHOD:PUBLISH
X-WR-CALNAME:Hardrijders Club Amsterdam
X-ORIGINAL-URL:https://sv-hca.nl
X-WR-CALDESC:Evenementen voor Hardrijders Club Amsterdam
REFRESH-INTERVAL;VALUE=DURATION:PT1H
X-Robots-Tag:noindex
X-PUBLISHED-TTL:PT1H
BEGIN:VTIMEZONE
TZID:UTC
BEGIN:STANDARD
TZOFFSETFROM:+0000
TZOFFSETTO:+0000
TZNAME:UTC
DTSTART:20250101T000000
END:STANDARD
END:VTIMEZONE
BEGIN:VEVENT
DTSTART;VALUE=DATE:20260323
DTEND;VALUE=DATE:20261010
DTSTAMP:20260423T212425
CREATED:20260122T161357Z
LAST-MODIFIED:20260122T161357Z
UID:8469-1774224000-1791590399@sv-hca.nl
SUMMARY:IJsbaan gesloten
DESCRIPTION:
URL:https://sv-hca.nl/event/ijsbaan-gesloten/
LOCATION:Jaap Edenbaan\, Radioweg 64\, Amsterdam\, Noord-Holland\, Nederland
CATEGORIES:Zomertraining
ATTACH;FMTTYPE=image/jpeg:https://sv-hca.nl/wp-content/uploads/2020/03/gesloten.jpg
END:VEVENT
BEGIN:VEVENT
DTSTART;TZID=UTC:20261106T210000
DTEND;TZID=UTC:20261106T230000
DTSTAMP:20260423T212425
CREATED:20260416T063734Z
LAST-MODIFIED:20260416T063734Z
UID:8747-1793998800-1794006000@sv-hca.nl
SUMMARY:111-ronden
DESCRIPTION:
URL:https://sv-hca.nl/event/111-ronden-2/
CATEGORIES:Evenement
END:VEVENT
END:VCALENDAR